Workbook

Sheet Форма
A1: Відомості про заклад / об’єкт | G1: Наявні укриття | L1: Проведені ремонти | Q1: Новозбудовані укриття | W1: Будівництво / реконструкція, що триває або планується | Z1: Примітки
A2: № | B2: Район | C2: Назва закладу / об’єкта | D2: Тип закладу / об’єкта | E2: Адреса | F2: Балансоутримувач | G2: Кількість наявних укриттів, од. | H2: Вид укриття | I2: Загальна площа, м² | J2: Місткість, осіб | K2: Стан готовності | L2: Кількість проведених ремонтів з 24.02.2022, од. | M2: Рік / період ремонту | N2: Перелік виконаних робіт | O2: Вартість ремонту відповідно до розпорядження, грн | P2: Джерело фінансування | Q2: Кількість новозбудованих укриттів з 24.02.2022, од. | R2: Рік введення в експлуатацію | S2: Площа нового укриття, м² | T2: Місткість нового укриття, осіб | U2: Вартість будівництва, грн | V2: Джерело фінансування | W2: Будівництво / реконструкція триває або планується | X2: Стадія / стан реалізації | Y2: Очікуваний строк завершення | Z2: Примітка
A3: 1 | B3: Святошинський | C3: Центр культури "Святошин" | D3: Заклад культури | E3: м. Київ, просп. Берестейський, 112 | F3: Управління культури Святошинської РДА | G3: 1 | H3: Найпростіше укриття | I3: 250 | J3: 416 | K3: Готове до використання | L3: 1 | M3: 2022 | N3: Ремонт підлоги і стін, стелі облаштування вентиляції, санвузла, освітлення, електрика | O3: 2500000 | P3: Бюджет міста Києва | Q3: 0
A4: 2 | B4: Святошинський | C4: Святошинська РДА | D4: Адміністративна будівля | E4: м. Київ, просп. Берестейський, 97 | F4: Святошинська РДА | G4: 1 | H4: Найпростіше укриття | I4: 180 | J4: 300 | K4: Готове до використання | L4: 1 | M4: 2022 | N4: Ремонт підлоги і стін, стелі облаштування вентиляції, санвузла, освітлення, електрика | O4: 2900000 | P4: Бюджет міста Києва | Q4: 0
A5: 3 | B5: Святошинський | C5: Київська дитяча музична школа 23 | D5: Заклад культури | E5: м. Київ, просп. Леся Курбаса, 10-Е | F5: Управління культури Святошинської РДА | G5: 1 | H5: Найпростіше укриття | I5: 100 | J5: 160 | K5: Готове до використання | L5: 1 | M5: 2023 | N5: Ремонт підлоги і стін, стелі облаштування вентиляції, освітлення, електрика | O5: 580000 | P5: Бюджет міста Києва | Q5: 0
A6: 4 | B6: Святошинський | C6: Житловий будинок | D6: Житловий будинок | E6: м. Київ, вул. Зодчих 50-В | F6: КП Керуюча компанія з обслуговування житлового фонду Cвятошинського району | G6: 1 | H6: Найпростіше укриття | I6: 100 | J6: 160 | K6: Готове до використання | L6: 1 | M6: 2023 | N6: Ремонт підлоги і стін, стелі облаштування вентиляції, санвузла, освітлення, електрика, інженерні мережі | O6: 1200000 | P6: Бюджет міста Києва | Q6: 0
A7: 5 | B7: Святошинський | C7: Житловий будинок | D7: Житловий будинок | E7: м. Київ, вул. Симиренка, 1-В | F7: КП Керуюча компанія з обслуговування житлового фонду Cвятошинського району | G7: 1 | H7: Найпростіше укриття | I7: 150 | J7: 250 | K7: Готове до використання | L7: 1 | M7: 2023 | N7: Ремонт підлоги і стін, стелі облаштування вентиляції, санвузла, освітлення, електрика, інженерні мережі | O7: 2000000 | P7: Бюджет міста Києва | Q7: 0
A8: 6 | B8: Святошинський | C8: Житловий будинок | D8: Житловий будинок | E8: м. Київ, вул. Тулузи, 4 | F8: КП Керуюча компанія з обслуговування житлового фонду Cвятошинського району | G8: 1 | H8: Найпростіше укриття | I8: 250 | J8: 416 | K8: Готове до використання | L8: 1 | M8: 2023 | N8: Ремонт підлоги і стін, стелі облаштування вентиляції, санвузла, освітлення, електрика, інженерні мережі | O8: 2600000 | P8: Бюджет міста Києва | Q8: 0
A9: 7 | B9: Святошинський | C9: Житловий будинок | D9: Житловий будинок | E9: м. Київ, вул. Чистяківська, 13-А | F9: КП Керуюча компанія з обслуговування житлового фонду Cвятошинського району | G9: 1 | H9: Найпростіше укриття | I9: 100 | J9: 160 | K9: Готове до використання | L9: 1 | M9: 2023 | N9: Ремонт підлоги і стін, стелі облаштування вентиляції, санвузла, освітлення, електрика, інженерні мережі | O9: 1500000 | P9: Бюджет міста Києва | Q9: 0
A10: 8 | B10: Святошинський | C10: Житловий будинок | D10: Житловий будинок | E10: м. Київ, вул. Гната Юри, 5 | F10: КП Керуюча компанія з обслуговування житлового фонду Cвятошинського району | G10: 1 | H10: Найпростіше укриття | I10: 250 | J10: 416 | K10: Готове до використання | L10: 1 | M10: 2023 | N10: Ремонт підлоги і стін, стелі облаштування вентиляції, санвузла, освітлення, електрика, інженерні мережі | O10: 2600000 | P10: Бюджет міста Києва | Q10: 0
A11: 9 | B11: Святошинський | C11: Житловий будинок | D11: Житловий будинок | E11: м. Київ, вул. Гната Юри, 7-А | F11: КП Керуюча компанія з обслуговування житлового фонду Cвятошинського району | G11: 1 | H11: Найпростіше укриття | I11: 250 | J11: 416 | K11: Готове до використання | L11: 1 | M11: 2023 | N11: Ремонт підлоги і стін, стелі облаштування вентиляції, санвузла, освітлення, електрика, інженерні мережі | O11: 3000000 | P11: Бюджет міста Києва | Q11: 0
A12: 10 | B12: Святошинський | C12: Житловий будинок | D12: Житловий будинок | E12: м. Київ, просп. Берестейський, 61/2 | F12: КП Керуюча компанія з обслуговування житлового фонду Cвятошинського району | G12: 1 | H12: Найпростіше укриття | I12: 120 | J12: 200 | K12: Готове до використання | L12: 1 | M12: 2023 | N12: Ремонт підлоги і стін, стелі облаштування вентиляції, санвузла, освітлення, електрика, інженерні мережі | O12: 2000000 | P12: Бюджет міста Києва | Q12: 0
A13: 11 | B13: Святошинський | C13: Житловий будинок | D13: Житловий будинок | E13: м. Київ, вул. Зодчих, 16 | F13: КП Керуюча компанія з обслуговування житлового фонду Cвятошинського району | G13: 1 | H13: Найпростіше укриття | I13: 180 | J13: 300 | K13: Готове до використання | L13: 1 | M13: 2023 | N13: Ремонт підлоги і стін, стелі облаштування вентиляції, санвузла, освітлення, електрика, інженерні мережі | O13: 3000000 | P13: Бюджет міста Києва | Q13: 0
A14: 12 | B14: Святошинський | C14: Житловий будинок | D14: Житловий будинок | E14: м. Київ, вул. Симиренка, 2-В | F14: КП Керуюча компанія з обслуговування житлового фонду Cвятошинського району | G14: 1 | H14: Найпростіше укриття | I14: 350 | J14: 583 | K14: Готове до використання | L14: 1 | M14: 2023 | N14: Ремонт підлоги і стін, стелі облаштування вентиляції, санвузла, освітлення, електрика, інженерні мережі | O14: 5500000 | P14: Бюджет міста Києва | Q14: 0
... A61: 59 | B61: Святошинський | C61: Житловий будинок | D61: Житловий будинок | E61: м. Київ, вул. Олевська, 9 | F61: ТОВ "ЖЕК-Сосновий бір" | G61: 1 | H61: Найпростіше укриття | I61: 250 | J61: 416 | K61: Готове до використання | L61: 1 | M61: 2026 | N61: Ремонт підлоги і стін, стелі облаштування вентиляції, санвузла, освітлення, електрика, інженерні мережі | O61: 4193600 | P61: Бюджет міста Києва | Q61: 0
A62: 60 | B62: Святошинський | C62: Житловий будинок | D62: Житловий будинок | E62: м. Київ, вул. Олевська, 11 | F62: ТОВ "ЖЕК-Сосновий бір" | G62: 1 | H62: Найпростіше укриття | I62: 400 | J62: 667 | K62: Готове до використання | L62: 1 | M62: 2026 | N62: Ремонт підлоги і стін, стелі облаштування вентиляції, санвузла, освітлення, електрика, інженерні мережі | O62: 18 185 940,00 | P62: Бюджет міста Києва | Q62: 0
A63: 61 | B63: Святошинський | C63: Житловий будинок | D63: Житловий будинок | E63: м. Київ, вул. Тулузи, 15 | F63: КП Керуюча компанія з обслуговування житлового фонду Cвятошинського району | G63: 1 | H63: Найпростіше укриття | I63: 350 | J63: 583 | K63: Готове до використання | L63: 1 | M63: 2026 | N63: Ремонт підлоги і стін, стелі облаштування вентиляції, санвузла, освітлення, електрика, інженерні мережі | O63: 12 004 400,00 | P63: Бюджет міста Києва | Q63: 0
A64: 62 | B64: Святошинський | C64: Житловий будинок | D64: Житловий будинок | E64: м. Київ, вул. Вахтанга Кікабідзе, 16 | F64: КП Керуюча компанія з обслуговування житлового фонду Cвятошинського району | G64: 1 | H64: Найпростіше укриття | I64: 250 | J64: 416 | K64: Готове до використання | L64: 1 | M64: 2026 | N64: Ремонт підлоги і стін, стелі облаштування вентиляції, санвузла, освітлення, електрика, інженерні мережі | O64: 6 000 000,00 | P64: Бюджет міста Києва | Q64: 0

Sheet Зведення
A1: ЗВЕДЕНІ ПОКАЗНИКИ ЗА ВНЕСЕНИМИ ДАНИМИ
A3: Показник | B3: Значення | D3: Район | E3: Кількість закладів / об’єктів | F3: Кількість укриттів | G3: Загальна площа, м² | H3: Місткість, осіб | I3: Кількість проведених ремонтів | J3: Новозбудованих укриттів
A4: Кількість закладів / об’єктів | B4: =COUNTIF(Форма!C3:C996,"<>") -> 62 | D4: Голосіївський | E4: =COUNTIFS(Форма!B3:B996,D4,Форма!C3:C996,"<>") -> 0 | F4: =SUMIF(Форма!B3:B996,D4,Форма!G3:G996) -> 0 | G4: =SUMIF(Форма!B3:B996,D4,Форма!I3:I996) -> 0 | H4: =SUMIF(Форма!B3:B996,D4,Форма!J3:J996) -> 0 | I4: =SUMIF(Форма!B3:B996,D4,Форма!L3:L996) -> 0 | J4: =SUMIF(Форма!B3:B996,D4,Форма!Q3:Q996) -> 0
A5: Кількість наявних укриттів, од. | B5: =SUM(Форма!G3:G996) -> 62 | D5: Дарницький | E5: =COUNTIFS(Форма!B3:B996,D5,Форма!C3:C996,"<>") -> 0 | F5: =SUMIF(Форма!B3:B996,D5,Форма!G3:G996) -> 0 | G5: =SUMIF(Форма!B3:B996,D5,Форма!I3:I996) -> 0 | H5: =SUMIF(Форма!B3:B996,D5,Форма!J3:J996) -> 0 | I5: =SUMIF(Форма!B3:B996,D5,Форма!L3:L996) -> 0 | J5: =SUMIF(Форма!B3:B996,D5,Форма!Q3:Q996) -> 0
A6: Загальна площа укриттів, м² | B6: =SUM(Форма!I3:I996) -> 11970 | D6: Деснянський | E6: =COUNTIFS(Форма!B3:B996,D6,Форма!C3:C996,"<>") -> 0 | F6: =SUMIF(Форма!B3:B996,D6,Форма!G3:G996) -> 0 | G6: =SUMIF(Форма!B3:B996,D6,Форма!I3:I996) -> 0 | H6: =SUMIF(Форма!B3:B996,D6,Форма!J3:J996) -> 0 | I6: =SUMIF(Форма!B3:B996,D6,Форма!L3:L996) -> 0 | J6: =SUMIF(Форма!B3:B996,D6,Форма!Q3:Q996) -> 0
A7: Загальна місткість, осіб | B7: =SUM(Форма!J3:J996) -> 19904 | D7: Дніпровський | E7: =COUNTIFS(Форма!B3:B996,D7,Форма!C3:C996,"<>") -> 0 | F7: =SUMIF(Форма!B3:B996,D7,Форма!G3:G996) -> 0 | G7: =SUMIF(Форма!B3:B996,D7,Форма!I3:I996) -> 0 | H7: =SUMIF(Форма!B3:B996,D7,Форма!J3:J996) -> 0 | I7: =SUMIF(Форма!B3:B996,D7,Форма!L3:L996) -> 0 | J7: =SUMIF(Форма!B3:B996,D7,Форма!Q3:Q996) -> 0
A8: Кількість проведених ремонтів, од. | B8: =SUM(Форма!L3:L996) -> 62 | D8: Оболонський | E8: =COUNTIFS(Форма!B3:B996,D8,Форма!C3:C996,"<>") -> 0 | F8: =SUMIF(Форма!B3:B996,D8,Форма!G3:G996) -> 0 | G8: =SUMIF(Форма!B3:B996,D8,Форма!I3:I996) -> 0 | H8: =SUMIF(Форма!B3:B996,D8,Форма!J3:J996) -> 0 | I8: =SUMIF(Форма!B3:B996,D8,Форма!L3:L996) -> 0 | J8: =SUMIF(Форма!B3:B996,D8,Форма!Q3:Q996) -> 0
A9: Кількість новозбудованих укриттів, од. | B9: =SUM(Форма!Q3:Q996) -> 0 | D9: Печерський | E9: =COUNTIFS(Форма!B3:B996,D9,Форма!C3:C996,"<>") -> 0 | F9: =SUMIF(Форма!B3:B996,D9,Форма!G3:G996) -> 0 | G9: =SUMIF(Форма!B3:B996,D9,Форма!I3:I996) -> 0 | H9: =SUMIF(Форма!B3:B996,D9,Форма!J3:J996) -> 0 | I9: =SUMIF(Форма!B3:B996,D9,Форма!L3:L996) -> 0 | J9: =SUMIF(Форма!B3:B996,D9,Форма!Q3:Q996) -> 0
A10: Кількість об’єктів, де будівництво / реконструкція триває або планується | B10: =COUNTIF(Форма!W3:W996,"Так") -> 0 | D10: Подільський | E10: =COUNTIFS(Форма!B3:B996,D10,Форма!C3:C996,"<>") -> 0 | F10: =SUMIF(Форма!B3:B996,D10,Форма!G3:G996) -> 0 | G10: =SUMIF(Форма!B3:B996,D10,Форма!I3:I996) -> 0 | H10: =SUMIF(Форма!B3:B996,D10,Форма!J3:J996) -> 0 | I10: =SUMIF(Форма!B3:B996,D10,Форма!L3:L996) -> 0 | J10: =SUMIF(Форма!B3:B996,D10,Форма!Q3:Q996) -> 0
D11: Святошинський | E11: =COUNTIFS(Форма!B3:B996,D11,Форма!C3:C996,"<>") -> 62 | F11: =SUMIF(Форма!B3:B996,D11,Форма!G3:G996) -> 62 | G11: =SUMIF(Форма!B3:B996,D11,Форма!I3:I996) -> 11970 | H11: =SUMIF(Форма!B3:B996,D11,Форма!J3:J996) -> 19904 | I11: =SUMIF(Форма!B3:B996,D11,Форма!L3:L996) -> 62 | J11: =SUMIF(Форма!B3:B996,D11,Форма!Q3:Q996) -> 0
D12: Солом’янський | E12: =COUNTIFS(Форма!B3:B996,D12,Форма!C3:C996,"<>") -> 0 | F12: =SUMIF(Форма!B3:B996,D12,Форма!G3:G996) -> 0 | G12: =SUMIF(Форма!B3:B996,D12,Форма!I3:I996) -> 0 | H12: =SUMIF(Форма!B3:B996,D12,Форма!J3:J996) -> 0 | I12: =SUMIF(Форма!B3:B996,D12,Форма!L3:L996) -> 0 | J12: =SUMIF(Форма!B3:B996,D12,Форма!Q3:Q996) -> 0
D13: Шевченківський | E13: =COUNTIFS(Форма!B3:B996,D13,Форма!C3:C996,"<>") -> 0 | F13: =SUMIF(Форма!B3:B996,D13,Форма!G3:G996) -> 0 | G13: =SUMIF(Форма!B3:B996,D13,Форма!I3:I996) -> 0 | H13: =SUMIF(Форма!B3:B996,D13,Форма!J3:J996) -> 0 | I13: =SUMIF(Форма!B3:B996,D13,Форма!L3:L996) -> 0 | J13: =SUMIF(Форма!B3:B996,D13,Форма!Q3:Q996) -> 0
